BEGIN:VCALENDAR
VERSION:2.0
PRODID:-//AA Central Office - ECPv6.15.13//NONSGML v1.0//EN
CALSCALE:GREGORIAN
METHOD:PUBLISH
X-WR-CALNAME:AA Central Office
X-ORIGINAL-URL:https://aabatonrouge.org
X-WR-CALDESC:Events for AA Central Office
REFRESH-INTERVAL;VALUE=DURATION:PT1H
X-Robots-Tag:noindex
X-PUBLISHED-TTL:PT1H
BEGIN:VTIMEZONE
TZID:America/Chicago
BEGIN:DAYLIGHT
TZOFFSETFROM:-0600
TZOFFSETTO:-0500
TZNAME:CDT
DTSTART:20240310T080000
END:DAYLIGHT
BEGIN:STANDARD
TZOFFSETFROM:-0500
TZOFFSETTO:-0600
TZNAME:CST
DTSTART:20241103T070000
END:STANDARD
BEGIN:DAYLIGHT
TZOFFSETFROM:-0600
TZOFFSETTO:-0500
TZNAME:CDT
DTSTART:20250309T080000
END:DAYLIGHT
BEGIN:STANDARD
TZOFFSETFROM:-0500
TZOFFSETTO:-0600
TZNAME:CST
DTSTART:20251102T070000
END:STANDARD
BEGIN:DAYLIGHT
TZOFFSETFROM:-0600
TZOFFSETTO:-0500
TZNAME:CDT
DTSTART:20260308T080000
END:DAYLIGHT
BEGIN:STANDARD
TZOFFSETFROM:-0500
TZOFFSETTO:-0600
TZNAME:CST
DTSTART:20261101T070000
END:STANDARD
END:VTIMEZONE
BEGIN:VEVENT
DTSTART;TZID=America/Chicago:20250902T183000
DTEND;TZID=America/Chicago:20250902T193000
DTSTAMP:20260421T055859
CREATED:20250528T173750Z
LAST-MODIFIED:20250528T173750Z
UID:10286-1756837800-1756841400@aabatonrouge.org
SUMMARY:CASC
DESCRIPTION:Capitol Area Service Committee
URL:https://aabatonrouge.org/event/casc-86/
LOCATION:Fairwood Branch Library\, 12910 Old Hammond Hwy.\, Baton Rouge\, LA\, 70816\, United States
CATEGORIES:Service,Sober Fun
END:VEVENT
BEGIN:VEVENT
DTSTART;TZID=America/Chicago:20250907T150000
DTEND;TZID=America/Chicago:20250907T160000
DTSTAMP:20260421T055859
CREATED:20250728T195628Z
LAST-MODIFIED:20250728T195628Z
UID:10407-1757257200-1757260800@aabatonrouge.org
SUMMARY:SERCYPAA
DESCRIPTION:
URL:https://aabatonrouge.org/event/sercypaa-74/
LOCATION:Central Office\, 10319 Old Hammond Hwy.\, Suite C-2 \, Baton Rouge\, LA\, 70816\, United States
CATEGORIES:Service,Sober Fun
END:VEVENT
BEGIN:VEVENT
DTSTART;TZID=America/Chicago:20250908T183000
DTEND;TZID=America/Chicago:20250908T193000
DTSTAMP:20260421T055859
CREATED:20250528T174701Z
LAST-MODIFIED:20250528T174701Z
UID:10297-1757356200-1757359800@aabatonrouge.org
SUMMARY:COC
DESCRIPTION:Central Office Committee
URL:https://aabatonrouge.org/event/coc-84/
LOCATION:Central Office\, 10319 Old Hammond Hwy.\, Suite C-2 \, Baton Rouge\, LA\, 70816\, United States
CATEGORIES:Service,Sober Fun
END:VEVENT
BEGIN:VEVENT
DTSTART;TZID=America/Chicago:20250911T183000
DTEND;TZID=America/Chicago:20250911T193000
DTSTAMP:20260421T055859
CREATED:20250528T194035Z
LAST-MODIFIED:20250528T194035Z
UID:10369-1757615400-1757619000@aabatonrouge.org
SUMMARY:T&C
DESCRIPTION:Treatment & Corrections
URL:https://aabatonrouge.org/event/tc-72/
LOCATION:Central Office\, 10319 Old Hammond Hwy.\, Suite C-2 \, Baton Rouge\, LA\, 70816\, United States
END:VEVENT
BEGIN:VEVENT
DTSTART;TZID=America/Chicago:20250913T120000
DTEND;TZID=America/Chicago:20250913T130000
DTSTAMP:20260421T055859
CREATED:20250528T183329Z
LAST-MODIFIED:20250528T183329Z
UID:10318-1757764800-1757768400@aabatonrouge.org
SUMMARY:District 15 C
DESCRIPTION:
URL:https://aabatonrouge.org/event/district-15-c-68/
LOCATION:Club 12\, 1695 Beaumont Drive	\, Baton Rouge\, LA\, 70806\, United States
END:VEVENT
BEGIN:VEVENT
DTSTART;TZID=America/Chicago:20250914T153000
DTEND;TZID=America/Chicago:20250914T163000
DTSTAMP:20260421T055859
CREATED:20250528T183907Z
LAST-MODIFIED:20250528T183907Z
UID:10330-1757863800-1757867400@aabatonrouge.org
SUMMARY:District 16
DESCRIPTION:
URL:https://aabatonrouge.org/event/district-16-93/
LOCATION:Stepping Stones\, 1027 N. Burnside\, Gonzales\, LA\, 70737\, United States
END:VEVENT
BEGIN:VEVENT
DTSTART;TZID=America/Chicago:20250914T170000
DTEND;TZID=America/Chicago:20250914T180000
DTSTAMP:20260421T055859
CREATED:20250528T192546Z
LAST-MODIFIED:20250528T192546Z
UID:10354-1757869200-1757872800@aabatonrouge.org
SUMMARY:Red Stick Roundup Committee
DESCRIPTION:
URL:https://aabatonrouge.org/event/red-stick-roundup-committee-25/
LOCATION:Central Office\, 10319 Old Hammond Hwy.\, Suite C-2 \, Baton Rouge\, LA\, 70816\, United States
END:VEVENT
BEGIN:VEVENT
DTSTART;TZID=America/Chicago:20250918T183000
DTEND;TZID=America/Chicago:20250918T193000
DTSTAMP:20260421T055859
CREATED:20250528T174957Z
LAST-MODIFIED:20250528T174957Z
UID:10303-1758220200-1758223800@aabatonrouge.org
SUMMARY:COR
DESCRIPTION:Central Office Representatives
URL:https://aabatonrouge.org/event/cor-84/
LOCATION:ZOOM
CATEGORIES:Service,Sober Fun
END:VEVENT
BEGIN:VEVENT
DTSTART;TZID=America/Chicago:20250919T180000
DTEND;TZID=America/Chicago:20250919T190000
DTSTAMP:20260421T055859
CREATED:20250528T175836Z
LAST-MODIFIED:20250528T175836Z
UID:10309-1758304800-1758308400@aabatonrouge.org
SUMMARY:District 10
DESCRIPTION:
URL:https://aabatonrouge.org/event/district-10-95/
LOCATION:Zachary UMC\, 4205 Church St.\, Zachary\, LA\, United States
CATEGORIES:Service,Sober Fun
END:VEVENT
BEGIN:VEVENT
DTSTART;TZID=America/Chicago:20250921T161500
DTEND;TZID=America/Chicago:20250921T170000
DTSTAMP:20260421T055859
CREATED:20250528T191624Z
LAST-MODIFIED:20250528T191624Z
UID:10336-1758471300-1758474000@aabatonrouge.org
SUMMARY:The Grapevine Committe
DESCRIPTION:
URL:https://aabatonrouge.org/event/the-grapevine-committe-3/
LOCATION:Central Office\, 10319 Old Hammond Hwy.\, Suite C-2 \, Baton Rouge\, LA\, 70816\, United States
END:VEVENT
BEGIN:VEVENT
DTSTART;TZID=America/Chicago:20250921T173000
DTEND;TZID=America/Chicago:20250921T183000
DTSTAMP:20260421T055859
CREATED:20250528T183647Z
LAST-MODIFIED:20250528T183647Z
UID:10324-1758475800-1758479400@aabatonrouge.org
SUMMARY:District 15 D
DESCRIPTION:
URL:https://aabatonrouge.org/event/district-15-d-45/
LOCATION:Central Office\, 10319 Old Hammond Hwy.\, Suite C-2 \, Baton Rouge\, LA\, 70816\, United States
END:VEVENT
BEGIN:VEVENT
DTSTART;TZID=America/Chicago:20250925T183000
DTEND;TZID=America/Chicago:20250925T193000
DTSTAMP:20260421T055859
CREATED:20250528T192314Z
LAST-MODIFIED:20250528T192314Z
UID:10348-1758825000-1758828600@aabatonrouge.org
SUMMARY:PI/CPC
DESCRIPTION:Public Information/Cooperation with the Professional Community
URL:https://aabatonrouge.org/event/pi-cpc-66/
LOCATION:Club 12\, 1695 Beaumont Drive	\, Baton Rouge\, LA\, 70806\, United States
END:VEVENT
END:VCALENDAR