BEGIN:VCALENDAR
VERSION:2.0
PRODID:-//AA Central Office - ECPv6.15.13//NONSGML v1.0//EN
CALSCALE:GREGORIAN
METHOD:PUBLISH
X-WR-CALNAME:AA Central Office
X-ORIGINAL-URL:https://aabatonrouge.org
X-WR-CALDESC:Events for AA Central Office
REFRESH-INTERVAL;VALUE=DURATION:PT1H
X-Robots-Tag:noindex
X-PUBLISHED-TTL:PT1H
BEGIN:VTIMEZONE
TZID:America/Chicago
BEGIN:DAYLIGHT
TZOFFSETFROM:-0600
TZOFFSETTO:-0500
TZNAME:CDT
DTSTART:20240310T080000
END:DAYLIGHT
BEGIN:STANDARD
TZOFFSETFROM:-0500
TZOFFSETTO:-0600
TZNAME:CST
DTSTART:20241103T070000
END:STANDARD
BEGIN:DAYLIGHT
TZOFFSETFROM:-0600
TZOFFSETTO:-0500
TZNAME:CDT
DTSTART:20250309T080000
END:DAYLIGHT
BEGIN:STANDARD
TZOFFSETFROM:-0500
TZOFFSETTO:-0600
TZNAME:CST
DTSTART:20251102T070000
END:STANDARD
BEGIN:DAYLIGHT
TZOFFSETFROM:-0600
TZOFFSETTO:-0500
TZNAME:CDT
DTSTART:20260308T080000
END:DAYLIGHT
BEGIN:STANDARD
TZOFFSETFROM:-0500
TZOFFSETTO:-0600
TZNAME:CST
DTSTART:20261101T070000
END:STANDARD
END:VTIMEZONE
BEGIN:VEVENT
DTSTART;TZID=America/Chicago:20250401T183000
DTEND;TZID=America/Chicago:20250401T193000
DTSTAMP:20260421T130842
CREATED:20250225T212019Z
LAST-MODIFIED:20250225T212019Z
UID:10082-1743532200-1743535800@aabatonrouge.org
SUMMARY:CASC
DESCRIPTION:
URL:https://aabatonrouge.org/event/casc-81/
LOCATION:Fairwood Branch Library\, 12910 Old Hammond Hwy.\, Baton Rouge\, LA\, 70816\, United States
CATEGORIES:CASC,Service,Sober Fun
END:VEVENT
BEGIN:VEVENT
DTSTART;TZID=America/Chicago:20250406T150000
DTEND;TZID=America/Chicago:20250406T160000
DTSTAMP:20260421T130842
CREATED:20250226T193125Z
LAST-MODIFIED:20250226T193125Z
UID:10135-1743951600-1743955200@aabatonrouge.org
SUMMARY:LASCYPAA
DESCRIPTION:
URL:https://aabatonrouge.org/event/lascypaa-69/
LOCATION:Central Office\, 10319 Old Hammond Hwy.\, Suite C-2 \, Baton Rouge\, LA\, 70816\, United States
CATEGORIES:Fundraiser,Service,Sober Fun
END:VEVENT
BEGIN:VEVENT
DTSTART;TZID=America/Chicago:20250410T183000
DTEND;TZID=America/Chicago:20250410T183000
DTSTAMP:20260421T130842
CREATED:20250226T194842Z
LAST-MODIFIED:20250226T194842Z
UID:10155-1744309800-1744309800@aabatonrouge.org
SUMMARY:T&C
DESCRIPTION:
URL:https://aabatonrouge.org/event/tc-68/
LOCATION:Central Office\, 10319 Old Hammond Hwy.\, Suite C-2 \, Baton Rouge\, LA\, 70816\, United States
CATEGORIES:Service,Sober Fun
END:VEVENT
BEGIN:VEVENT
DTSTART;TZID=America/Chicago:20250411T080000
DTEND;TZID=America/Chicago:20250413T170000
DTSTAMP:20260421T130842
CREATED:20250327T213906Z
LAST-MODIFIED:20250327T213906Z
UID:10240-1744358400-1744563600@aabatonrouge.org
SUMMARY:Fellowship of the Spirit
DESCRIPTION:
URL:https://aabatonrouge.org/event/fellowship-of-the-spirit-2/
LOCATION:LA
ATTACH;FMTTYPE=image/png:https://aabatonrouge.org/wp-content/uploads/2025/03/FOTS25-1-002.png
END:VEVENT
BEGIN:VEVENT
DTSTART;TZID=America/Chicago:20250412T120000
DTEND;TZID=America/Chicago:20250412T130000
DTSTAMP:20260421T130842
CREATED:20250225T213826Z
LAST-MODIFIED:20250225T213826Z
UID:10106-1744459200-1744462800@aabatonrouge.org
SUMMARY:District 15 C
DESCRIPTION:
URL:https://aabatonrouge.org/event/district-15-c-63/
LOCATION:Club 12\, 1695 Beaumont Drive	\, Baton Rouge\, LA\, 70806\, United States
CATEGORIES:Service,Sober Fun
END:VEVENT
BEGIN:VEVENT
DTSTART;TZID=America/Chicago:20250413T153000
DTEND;TZID=America/Chicago:20250413T163000
DTSTAMP:20260421T130842
CREATED:20250225T214416Z
LAST-MODIFIED:20250311T221517Z
UID:10120-1744558200-1744561800@aabatonrouge.org
SUMMARY:District 16
DESCRIPTION:
URL:https://aabatonrouge.org/event/district-16-88/
LOCATION:Stepping Stones\, 1027 N. Burnside\, Gonzales\, LA\, 70737\, United States
CATEGORIES:Service,Sober Fun
END:VEVENT
BEGIN:VEVENT
DTSTART;TZID=America/Chicago:20250413T170000
DTEND;TZID=America/Chicago:20250413T180000
DTSTAMP:20260421T130842
CREATED:20250226T193634Z
LAST-MODIFIED:20250226T193634Z
UID:10145-1744563600-1744567200@aabatonrouge.org
SUMMARY:Redstick Roundup Committee
DESCRIPTION:
URL:https://aabatonrouge.org/event/redstick-roundup-committee-45/
LOCATION:Central Office\, 10319 Old Hammond Hwy.\, Suite C-2 \, Baton Rouge\, LA\, 70816\, United States
CATEGORIES:Fundraiser,Service,Sober Fun
END:VEVENT
BEGIN:VEVENT
DTSTART;TZID=America/Chicago:20250414T183000
DTEND;TZID=America/Chicago:20250414T193000
DTSTAMP:20260421T130842
CREATED:20250225T212333Z
LAST-MODIFIED:20250225T212333Z
UID:10088-1744655400-1744659000@aabatonrouge.org
SUMMARY:COC
DESCRIPTION:
URL:https://aabatonrouge.org/event/coc-79/
LOCATION:Central Office\, 10319 Old Hammond Hwy.\, Suite C-2 \, Baton Rouge\, LA\, 70816\, United States
CATEGORIES:Service,Sober Fun
END:VEVENT
BEGIN:VEVENT
DTSTART;TZID=America/Chicago:20250417T183000
DTEND;TZID=America/Chicago:20250417T193000
DTSTAMP:20260421T130842
CREATED:20250225T213309Z
LAST-MODIFIED:20250225T213309Z
UID:10094-1744914600-1744918200@aabatonrouge.org
SUMMARY:COR
DESCRIPTION:
URL:https://aabatonrouge.org/event/cor-79/
LOCATION:ZOOM
CATEGORIES:Service,Sober Fun
END:VEVENT
BEGIN:VEVENT
DTSTART;TZID=America/Chicago:20250418T180000
DTEND;TZID=America/Chicago:20250418T190000
DTSTAMP:20260421T130842
CREATED:20250225T213553Z
LAST-MODIFIED:20250225T213553Z
UID:10100-1744999200-1745002800@aabatonrouge.org
SUMMARY:District 10
DESCRIPTION:
URL:https://aabatonrouge.org/event/district-10-90/
LOCATION:Zachary UMC\, 4205 Church St.\, Zachary\, LA\, United States
CATEGORIES:Service,Sober Fun
END:VEVENT
BEGIN:VEVENT
DTSTART;TZID=America/Chicago:20250424T183000
DTEND;TZID=America/Chicago:20250424T193000
DTSTAMP:20260421T130842
CREATED:20250226T193325Z
LAST-MODIFIED:20250226T193325Z
UID:10139-1745519400-1745523000@aabatonrouge.org
SUMMARY:PI/CPC
DESCRIPTION:
URL:https://aabatonrouge.org/event/pi-cpc-61/
LOCATION:Club 12\, 1695 Beaumont Drive	\, Baton Rouge\, LA\, 70806\, United States
CATEGORIES:Service,Sober Fun
END:VEVENT
BEGIN:VEVENT
DTSTART;TZID=America/Chicago:20250426T110000
DTEND;TZID=America/Chicago:20250426T160000
DTSTAMP:20260421T130842
CREATED:20250327T214028Z
LAST-MODIFIED:20250327T214204Z
UID:10242-1745665200-1745683200@aabatonrouge.org
SUMMARY:Luau Party
DESCRIPTION:
URL:https://aabatonrouge.org/event/luau-party/
LOCATION:LA
ATTACH;FMTTYPE=image/jpeg:https://aabatonrouge.org/wp-content/uploads/2025/03/4e9522eb7040f7ae04bd8307d1af3610-scaled-e1743112215872.jpeg
END:VEVENT
BEGIN:VEVENT
DTSTART;TZID=America/Chicago:20250427T150000
DTEND;TZID=America/Chicago:20250427T160000
DTSTAMP:20260421T130842
CREATED:20250226T194321Z
LAST-MODIFIED:20250226T194321Z
UID:10149-1745766000-1745769600@aabatonrouge.org
SUMMARY:State Convention Committee
DESCRIPTION:
URL:https://aabatonrouge.org/event/state-convention-committee-58/
LOCATION:Central Office\, 10319 Old Hammond Hwy.\, Suite C-2 \, Baton Rouge\, LA\, 70816\, United States
CATEGORIES:Fundraiser,Service,Sober Fun
END:VEVENT
BEGIN:VEVENT
DTSTART;TZID=America/Chicago:20250427T173000
DTEND;TZID=America/Chicago:20250427T183000
DTSTAMP:20260421T130842
CREATED:20250225T214114Z
LAST-MODIFIED:20250326T175036Z
UID:10112-1745775000-1745778600@aabatonrouge.org
SUMMARY:District 15 D
DESCRIPTION:
URL:https://aabatonrouge.org/event/district-15-d-39/
LOCATION:Central Office\, 10319 Old Hammond Hwy.\, Suite C-2 \, Baton Rouge\, LA\, 70816\, United States
CATEGORIES:Service,Sober Fun
END:VEVENT
END:VCALENDAR