BEGIN:VCALENDAR
VERSION:2.0
PRODID:-//AA Central Office - ECPv6.15.13//NONSGML v1.0//EN
CALSCALE:GREGORIAN
METHOD:PUBLISH
X-WR-CALNAME:AA Central Office
X-ORIGINAL-URL:https://aabatonrouge.org
X-WR-CALDESC:Events for AA Central Office
REFRESH-INTERVAL;VALUE=DURATION:PT1H
X-Robots-Tag:noindex
X-PUBLISHED-TTL:PT1H
BEGIN:VTIMEZONE
TZID:America/Chicago
BEGIN:DAYLIGHT
TZOFFSETFROM:-0600
TZOFFSETTO:-0500
TZNAME:CDT
DTSTART:20230312T080000
END:DAYLIGHT
BEGIN:STANDARD
TZOFFSETFROM:-0500
TZOFFSETTO:-0600
TZNAME:CST
DTSTART:20231105T070000
END:STANDARD
BEGIN:DAYLIGHT
TZOFFSETFROM:-0600
TZOFFSETTO:-0500
TZNAME:CDT
DTSTART:20240310T080000
END:DAYLIGHT
BEGIN:STANDARD
TZOFFSETFROM:-0500
TZOFFSETTO:-0600
TZNAME:CST
DTSTART:20241103T070000
END:STANDARD
BEGIN:DAYLIGHT
TZOFFSETFROM:-0600
TZOFFSETTO:-0500
TZNAME:CDT
DTSTART:20250309T080000
END:DAYLIGHT
BEGIN:STANDARD
TZOFFSETFROM:-0500
TZOFFSETTO:-0600
TZNAME:CST
DTSTART:20251102T070000
END:STANDARD
END:VTIMEZONE
BEGIN:VEVENT
DTSTART;TZID=America/Chicago:20240204T150000
DTEND;TZID=America/Chicago:20240204T160000
DTSTAMP:20260422T111908
CREATED:20231219T191054Z
LAST-MODIFIED:20231219T191054Z
UID:9241-1707058800-1707062400@aabatonrouge.org
SUMMARY:LASCYPAA
DESCRIPTION:Louisiana State Conference of Young People in AA
URL:https://aabatonrouge.org/event/lascypaa-55/
LOCATION:Central Office\, 10319 Old Hammond Hwy.\, Suite C-2 \, Baton Rouge\, LA\, 70816\, United States
CATEGORIES:Service,Sober Fun
END:VEVENT
BEGIN:VEVENT
DTSTART;TZID=America/Chicago:20240206T183000
DTEND;TZID=America/Chicago:20240206T193000
DTSTAMP:20260422T111908
CREATED:20231213T221337Z
LAST-MODIFIED:20231213T221337Z
UID:9177-1707244200-1707247800@aabatonrouge.org
SUMMARY:CASC
DESCRIPTION:Capitol Area Service Committee
URL:https://aabatonrouge.org/event/casc-79/
LOCATION:Fairwood Branch Library\, 12910 Old Hammond Hwy.\, Baton Rouge\, LA\, 70816\, United States
CATEGORIES:Service,Sober Fun
END:VEVENT
BEGIN:VEVENT
DTSTART;TZID=America/Chicago:20240208T183000
DTEND;TZID=America/Chicago:20240208T193000
DTSTAMP:20260422T111908
CREATED:20231219T201412Z
LAST-MODIFIED:20231219T201412Z
UID:9265-1707417000-1707420600@aabatonrouge.org
SUMMARY:T&C
DESCRIPTION:Treatment & Corrections Committee
URL:https://aabatonrouge.org/event/tc-66/
LOCATION:Central Office\, 10319 Old Hammond Hwy.\, Suite C-2 \, Baton Rouge\, LA\, 70816\, United States
CATEGORIES:Service,Sober Fun
END:VEVENT
BEGIN:VEVENT
DTSTART;TZID=America/Chicago:20240210T183000
DTEND;TZID=America/Chicago:20240210T193000
DTSTAMP:20260422T111908
CREATED:20231213T224550Z
LAST-MODIFIED:20231213T224550Z
UID:9197-1707589800-1707593400@aabatonrouge.org
SUMMARY:District 10
DESCRIPTION:
URL:https://aabatonrouge.org/event/district-10-76/
LOCATION:Zachary UMC\, 4205 Church St.\, Zachary\, LA\, United States
CATEGORIES:Service,Sober Fun
END:VEVENT
BEGIN:VEVENT
DTSTART;TZID=America/Chicago:20240212T183000
DTEND;TZID=America/Chicago:20240212T193000
DTSTAMP:20260422T111908
CREATED:20231213T221746Z
LAST-MODIFIED:20231213T221746Z
UID:9185-1707762600-1707766200@aabatonrouge.org
SUMMARY:COC
DESCRIPTION:Central Office Committee
URL:https://aabatonrouge.org/event/coc-77/
LOCATION:ZOOM
CATEGORIES:Service,Sober Fun
END:VEVENT
BEGIN:VEVENT
DTSTART;TZID=America/Chicago:20240214T194500
DTEND;TZID=America/Chicago:20240214T203000
DTSTAMP:20260422T111908
CREATED:20231213T231658Z
LAST-MODIFIED:20231213T231658Z
UID:9217-1707939900-1707942600@aabatonrouge.org
SUMMARY:District 16
DESCRIPTION:
URL:https://aabatonrouge.org/event/district-16-74/
LOCATION:Stepping Stones\, 1027 N. Burnside\, Gonzales\, LA\, 70737\, United States
CATEGORIES:Service,Sober Fun
END:VEVENT
BEGIN:VEVENT
DTSTART;TZID=America/Chicago:20240215T183000
DTEND;TZID=America/Chicago:20240215T193000
DTSTAMP:20260422T111908
CREATED:20231213T224227Z
LAST-MODIFIED:20231213T224227Z
UID:9191-1708021800-1708025400@aabatonrouge.org
SUMMARY:COR
DESCRIPTION:Central Office Representatives
URL:https://aabatonrouge.org/event/cor-77/
LOCATION:ZOOM
CATEGORIES:Service,Sober Fun
END:VEVENT
BEGIN:VEVENT
DTSTART;TZID=America/Chicago:20240217T120000
DTEND;TZID=America/Chicago:20240217T130000
DTSTAMP:20260422T111908
CREATED:20231213T225529Z
LAST-MODIFIED:20231213T225529Z
UID:9203-1708171200-1708174800@aabatonrouge.org
SUMMARY:District 15 C
DESCRIPTION:
URL:https://aabatonrouge.org/event/district-15-c-58/
LOCATION:Club 12\, 1695 Beaumont Drive	\, Baton Rouge\, LA\, 70806\, United States
CATEGORIES:Service,Sober Fun
END:VEVENT
BEGIN:VEVENT
DTSTART;TZID=America/Chicago:20240218T163000
DTEND;TZID=America/Chicago:20240218T173000
DTSTAMP:20260422T111908
CREATED:20231219T190706Z
LAST-MODIFIED:20231219T190706Z
UID:9235-1708273800-1708277400@aabatonrouge.org
SUMMARY:The Grapevine Committee
DESCRIPTION:
URL:https://aabatonrouge.org/event/the-grapevine-committee-43/
LOCATION:Central Office\, 10319 Old Hammond Hwy.\, Suite C-2 \, Baton Rouge\, LA\, 70816\, United States
CATEGORIES:Service,Sober Fun
END:VEVENT
BEGIN:VEVENT
DTSTART;TZID=America/Chicago:20240218T173000
DTEND;TZID=America/Chicago:20240218T183000
DTSTAMP:20260422T111908
CREATED:20231213T231147Z
LAST-MODIFIED:20240108T184531Z
UID:9209-1708277400-1708281000@aabatonrouge.org
SUMMARY:District 15 D (Combined with A&B)
DESCRIPTION:
URL:https://aabatonrouge.org/event/district-15-d-combined-with-ab-21/
LOCATION:Life Center\, 10473 Old Hammond Hwy\, Baton Rouge\, LA\, 70816\, United States
CATEGORIES:Service,Sober Fun
END:VEVENT
BEGIN:VEVENT
DTSTART;TZID=America/Chicago:20240225T150000
DTEND;TZID=America/Chicago:20240225T160000
DTSTAMP:20260422T111908
CREATED:20231219T192851Z
LAST-MODIFIED:20231219T192851Z
UID:9257-1708873200-1708876800@aabatonrouge.org
SUMMARY:Area 27 State Convention Committee
DESCRIPTION:
URL:https://aabatonrouge.org/event/area-27-state-convention-committee-2/
LOCATION:Central Office\, 10319 Old Hammond Hwy.\, Suite C-2 \, Baton Rouge\, LA\, 70816\, United States
CATEGORIES:Service,Sober Fun
END:VEVENT
BEGIN:VEVENT
DTSTART;TZID=America/Chicago:20240229T183000
DTEND;TZID=America/Chicago:20240229T193000
DTSTAMP:20260422T111908
CREATED:20231219T191521Z
LAST-MODIFIED:20231219T191521Z
UID:9247-1709231400-1709235000@aabatonrouge.org
SUMMARY:PI/CPC
DESCRIPTION:Public information/Cooperation with the Professional Community
URL:https://aabatonrouge.org/event/pi-cpc-58/
LOCATION:Club 12\, 1695 Beaumont Drive	\, Baton Rouge\, LA\, 70806\, United States
CATEGORIES:Service,Sober Fun
END:VEVENT
END:VCALENDAR