BEGIN:VCALENDAR
VERSION:2.0
PRODID:-//AA Central Office - ECPv6.15.13//NONSGML v1.0//EN
CALSCALE:GREGORIAN
METHOD:PUBLISH
X-ORIGINAL-URL:https://aabatonrouge.org
X-WR-CALDESC:Events for AA Central Office
REFRESH-INTERVAL;VALUE=DURATION:PT1H
X-Robots-Tag:noindex
X-PUBLISHED-TTL:PT1H
BEGIN:VTIMEZONE
TZID:America/Chicago
BEGIN:DAYLIGHT
TZOFFSETFROM:-0600
TZOFFSETTO:-0500
TZNAME:CDT
DTSTART:20220313T080000
END:DAYLIGHT
BEGIN:STANDARD
TZOFFSETFROM:-0500
TZOFFSETTO:-0600
TZNAME:CST
DTSTART:20221106T070000
END:STANDARD
BEGIN:DAYLIGHT
TZOFFSETFROM:-0600
TZOFFSETTO:-0500
TZNAME:CDT
DTSTART:20230312T080000
END:DAYLIGHT
BEGIN:STANDARD
TZOFFSETFROM:-0500
TZOFFSETTO:-0600
TZNAME:CST
DTSTART:20231105T070000
END:STANDARD
BEGIN:DAYLIGHT
TZOFFSETFROM:-0600
TZOFFSETTO:-0500
TZNAME:CDT
DTSTART:20240310T080000
END:DAYLIGHT
BEGIN:STANDARD
TZOFFSETFROM:-0500
TZOFFSETTO:-0600
TZNAME:CST
DTSTART:20241103T070000
END:STANDARD
END:VTIMEZONE
BEGIN:VEVENT
DTSTART;TZID=America/Chicago:20230205T150000
DTEND;TZID=America/Chicago:20230205T160000
DTSTAMP:20260422T082728
CREATED:20221219T195413Z
LAST-MODIFIED:20221219T195413Z
UID:8637-1675609200-1675612800@aabatonrouge.org
SUMMARY:LASCYPAA
DESCRIPTION:Louisiana State Conference of Young People in AA
URL:https://aabatonrouge.org/event/lascypaa-43/
LOCATION:Central Office\, 10319 Old Hammond Hwy.\, Suite C-2 \, Baton Rouge\, LA\, 70816\, United States
CATEGORIES:Service,Sober Fun
END:VEVENT
BEGIN:VEVENT
DTSTART;TZID=America/Chicago:20230207T183000
DTEND;TZID=America/Chicago:20230207T193000
DTSTAMP:20260422T082728
CREATED:20221219T191430Z
LAST-MODIFIED:20221219T191430Z
UID:8589-1675794600-1675798200@aabatonrouge.org
SUMMARY:CASC
DESCRIPTION:Capital Area Service Committee
URL:https://aabatonrouge.org/event/casc-67/
LOCATION:Central Office\, 10319 Old Hammond Hwy.\, Suite C-2 \, Baton Rouge\, LA\, 70816\, United States
CATEGORIES:Service,Sober Fun
END:VEVENT
BEGIN:VEVENT
DTSTART;TZID=America/Chicago:20230208T194500
DTEND;TZID=America/Chicago:20230208T203000
DTSTAMP:20260422T082728
CREATED:20221219T194622Z
LAST-MODIFIED:20221219T194622Z
UID:8625-1675885500-1675888200@aabatonrouge.org
SUMMARY:District 16
DESCRIPTION:
URL:https://aabatonrouge.org/event/district-16-62/
LOCATION:Stepping Stones\, 1027 N. Burnside\, Gonzales\, LA\, 70737\, United States
CATEGORIES:Service,Sober Fun
END:VEVENT
BEGIN:VEVENT
DTSTART;TZID=America/Chicago:20230209T183000
DTEND;TZID=America/Chicago:20230209T193000
DTSTAMP:20260422T082728
CREATED:20221219T201548Z
LAST-MODIFIED:20221219T201548Z
UID:8665-1675967400-1675971000@aabatonrouge.org
SUMMARY:T&C
DESCRIPTION:Treatment & Corrections Committee
URL:https://aabatonrouge.org/event/tc-54/
LOCATION:Central Office\, 10319 Old Hammond Hwy.\, Suite C-2 \, Baton Rouge\, LA\, 70816\, United States
CATEGORIES:Service,Sober Fun
END:VEVENT
BEGIN:VEVENT
DTSTART;TZID=America/Chicago:20230211T183000
DTEND;TZID=America/Chicago:20230211T183000
DTSTAMP:20260422T082728
CREATED:20221219T193320Z
LAST-MODIFIED:20221219T193320Z
UID:8607-1676140200-1676140200@aabatonrouge.org
SUMMARY:District 10
DESCRIPTION:
URL:https://aabatonrouge.org/event/district-10-64/
LOCATION:Zachary UMC\, 4205 Church St.\, Zachary\, LA\, United States
CATEGORIES:Service,Sober Fun
END:VEVENT
BEGIN:VEVENT
DTSTART;TZID=America/Chicago:20230213T183000
DTEND;TZID=America/Chicago:20230213T193000
DTSTAMP:20260422T082728
CREATED:20221219T191914Z
LAST-MODIFIED:20221219T191914Z
UID:8595-1676313000-1676316600@aabatonrouge.org
SUMMARY:COC
DESCRIPTION:Central Office Committee
URL:https://aabatonrouge.org/event/coc-65/
LOCATION:ZOOM
CATEGORIES:Service,Sober Fun
END:VEVENT
BEGIN:VEVENT
DTSTART;TZID=America/Chicago:20230216T183000
DTEND;TZID=America/Chicago:20230216T193000
DTSTAMP:20260422T082728
CREATED:20221219T192507Z
LAST-MODIFIED:20221219T192507Z
UID:8601-1676572200-1676575800@aabatonrouge.org
SUMMARY:COR
DESCRIPTION:Central Office Representatives
URL:https://aabatonrouge.org/event/cor-65/
LOCATION:ZOOM
CATEGORIES:Service,Sober Fun
END:VEVENT
BEGIN:VEVENT
DTSTART;TZID=America/Chicago:20230218T120000
DTEND;TZID=America/Chicago:20230218T130000
DTSTAMP:20260422T082728
CREATED:20221219T193704Z
LAST-MODIFIED:20221219T193704Z
UID:8613-1676721600-1676725200@aabatonrouge.org
SUMMARY:District 15 C
DESCRIPTION:
URL:https://aabatonrouge.org/event/district-15-c-52/
LOCATION:Club 12\, 1695 Beaumont Drive	\, Baton Rouge\, LA\, 70806\, United States
CATEGORIES:Service,Sober Fun
END:VEVENT
BEGIN:VEVENT
DTSTART;TZID=America/Chicago:20230219T150000
DTEND;TZID=America/Chicago:20230219T160000
DTSTAMP:20260422T082728
CREATED:20221219T194952Z
LAST-MODIFIED:20221219T194952Z
UID:8631-1676818800-1676822400@aabatonrouge.org
SUMMARY:The Grapevine Committee
DESCRIPTION:
URL:https://aabatonrouge.org/event/the-grapevine-committee-33/
LOCATION:Central Office\, 10319 Old Hammond Hwy.\, Suite C-2 \, Baton Rouge\, LA\, 70816\, United States
CATEGORIES:Sober Fun
END:VEVENT
BEGIN:VEVENT
DTSTART;TZID=America/Chicago:20230219T173000
DTEND;TZID=America/Chicago:20230219T183000
DTSTAMP:20260422T082728
CREATED:20221219T194322Z
LAST-MODIFIED:20221219T194322Z
UID:8619-1676827800-1676831400@aabatonrouge.org
SUMMARY:District 15 D
DESCRIPTION:
URL:https://aabatonrouge.org/event/district-15-d-28/
LOCATION:ZOOM
CATEGORIES:Service,Sober Fun
END:VEVENT
BEGIN:VEVENT
DTSTART;TZID=America/Chicago:20230223T183000
DTEND;TZID=America/Chicago:20230223T193000
DTSTAMP:20260422T082728
CREATED:20221219T195752Z
LAST-MODIFIED:20221219T195752Z
UID:8643-1677177000-1677180600@aabatonrouge.org
SUMMARY:PI/CPC
DESCRIPTION:Public Information/Cooperation with the Professional Community
URL:https://aabatonrouge.org/event/pi-cpc-46/
LOCATION:Club 12\, 1695 Beaumont Drive	\, Baton Rouge\, LA\, 70806\, United States
CATEGORIES:Service,Sober Fun
END:VEVENT
BEGIN:VEVENT
DTSTART;TZID=America/Chicago:20230226T150000
DTEND;TZID=America/Chicago:20230226T160000
DTSTAMP:20260422T082728
CREATED:20221219T200854Z
LAST-MODIFIED:20221219T200854Z
UID:8659-1677423600-1677427200@aabatonrouge.org
SUMMARY:State Convention Committee- Area 27
DESCRIPTION:
URL:https://aabatonrouge.org/event/state-convention-committee-area-27-2/
LOCATION:Central Office\, 10319 Old Hammond Hwy.\, Suite C-2 \, Baton Rouge\, LA\, 70816\, United States
CATEGORIES:Sober Fun
END:VEVENT
END:VCALENDAR