BEGIN:VCALENDAR
VERSION:2.0
PRODID:-//AA Central Office - ECPv6.15.13//NONSGML v1.0//EN
CALSCALE:GREGORIAN
METHOD:PUBLISH
X-ORIGINAL-URL:https://aabatonrouge.org
X-WR-CALDESC:Events for AA Central Office
REFRESH-INTERVAL;VALUE=DURATION:PT1H
X-Robots-Tag:noindex
X-PUBLISHED-TTL:PT1H
BEGIN:VTIMEZONE
TZID:America/Chicago
BEGIN:DAYLIGHT
TZOFFSETFROM:-0600
TZOFFSETTO:-0500
TZNAME:CDT
DTSTART:20210314T080000
END:DAYLIGHT
BEGIN:STANDARD
TZOFFSETFROM:-0500
TZOFFSETTO:-0600
TZNAME:CST
DTSTART:20211107T070000
END:STANDARD
BEGIN:DAYLIGHT
TZOFFSETFROM:-0600
TZOFFSETTO:-0500
TZNAME:CDT
DTSTART:20220313T080000
END:DAYLIGHT
BEGIN:STANDARD
TZOFFSETFROM:-0500
TZOFFSETTO:-0600
TZNAME:CST
DTSTART:20221106T070000
END:STANDARD
BEGIN:DAYLIGHT
TZOFFSETFROM:-0600
TZOFFSETTO:-0500
TZNAME:CDT
DTSTART:20230312T080000
END:DAYLIGHT
BEGIN:STANDARD
TZOFFSETFROM:-0500
TZOFFSETTO:-0600
TZNAME:CST
DTSTART:20231105T070000
END:STANDARD
END:VTIMEZONE
BEGIN:VEVENT
DTSTART;TZID=America/Chicago:20220802T183000
DTEND;TZID=America/Chicago:20220802T193000
DTSTAMP:20260421T224959
CREATED:20220617T171813Z
LAST-MODIFIED:20220617T171813Z
UID:8290-1659465000-1659468600@aabatonrouge.org
SUMMARY:CASC
DESCRIPTION:Capital Area Service Committee
URL:https://aabatonrouge.org/event/casc-61/
LOCATION:Central Office\, 10319 Old Hammond Hwy.\, Suite C-2 \, Baton Rouge\, LA\, 70816\, United States
CATEGORIES:Service,Sober Fun
END:VEVENT
BEGIN:VEVENT
DTSTART;TZID=America/Chicago:20220807T130000
DTEND;TZID=America/Chicago:20220807T140000
DTSTAMP:20260421T225000
CREATED:20220621T214313Z
LAST-MODIFIED:20220621T214313Z
UID:8313-1659877200-1659880800@aabatonrouge.org
SUMMARY:Central Office Fun/d raising committee
DESCRIPTION:
URL:https://aabatonrouge.org/event/central-office-fun-d-raising-committee-9/
LOCATION:Central Office\, 10319 Old Hammond Hwy.\, Suite C-2 \, Baton Rouge\, LA\, 70816\, United States
CATEGORIES:Service,Sober Fun
END:VEVENT
BEGIN:VEVENT
DTSTART;TZID=America/Chicago:20220807T150000
DTEND;TZID=America/Chicago:20220807T160000
DTSTAMP:20260421T225000
CREATED:20220622T213135Z
LAST-MODIFIED:20220622T213135Z
UID:8357-1659884400-1659888000@aabatonrouge.org
SUMMARY:LASCYPAA Committee
DESCRIPTION:Louisiana State Conference of Young People in AA
URL:https://aabatonrouge.org/event/lascypaa-committee-8/
LOCATION:Central Office\, 10319 Old Hammond Hwy.\, Suite C-2 \, Baton Rouge\, LA\, 70816\, United States
CATEGORIES:Service,Sober Fun
END:VEVENT
BEGIN:VEVENT
DTSTART;TZID=America/Chicago:20220808T183000
DTEND;TZID=America/Chicago:20220808T193000
DTSTAMP:20260421T225000
CREATED:20220621T213519Z
LAST-MODIFIED:20220621T213519Z
UID:8303-1659983400-1659987000@aabatonrouge.org
SUMMARY:COC
DESCRIPTION:Central Office Committee
URL:https://aabatonrouge.org/event/coc-59/
LOCATION:ZOOM
CATEGORIES:Service,Sober Fun
END:VEVENT
BEGIN:VEVENT
DTSTART;TZID=America/Chicago:20220810T194500
DTEND;TZID=America/Chicago:20220810T203000
DTSTAMP:20260421T225000
CREATED:20220621T215622Z
LAST-MODIFIED:20220621T215622Z
UID:8337-1660160700-1660163400@aabatonrouge.org
SUMMARY:District 16
DESCRIPTION:
URL:https://aabatonrouge.org/event/district-16-56/
LOCATION:Stepping Stones\, 1027 N. Burnside\, Gonzales\, LA\, 70737\, United States
CATEGORIES:Service,Sober Fun
END:VEVENT
BEGIN:VEVENT
DTSTART;TZID=America/Chicago:20220811T183000
DTEND;TZID=America/Chicago:20220811T193000
DTSTAMP:20260421T225000
CREATED:20220622T215424Z
LAST-MODIFIED:20220622T215424Z
UID:8388-1660242600-1660246200@aabatonrouge.org
SUMMARY:T&C
DESCRIPTION:Treatment & Corrections
URL:https://aabatonrouge.org/event/tc-48/
LOCATION:Central Office\, 10319 Old Hammond Hwy.\, Suite C-2 \, Baton Rouge\, LA\, 70816\, United States
CATEGORIES:Service,Sober Fun
END:VEVENT
BEGIN:VEVENT
DTSTART;TZID=America/Chicago:20220813T183000
DTEND;TZID=America/Chicago:20220813T193000
DTSTAMP:20260421T225000
CREATED:20220621T214715Z
LAST-MODIFIED:20220621T214715Z
UID:8319-1660415400-1660419000@aabatonrouge.org
SUMMARY:District 10
DESCRIPTION:
URL:https://aabatonrouge.org/event/district-10-58/
LOCATION:Zachary UMC\, 4205 Church St.\, Zachary\, LA\, United States
CATEGORIES:Service,Sober Fun
END:VEVENT
BEGIN:VEVENT
DTSTART;TZID=America/Chicago:20220814T160000
DTEND;TZID=America/Chicago:20220814T170000
DTSTAMP:20260421T225000
CREATED:20220622T212347Z
LAST-MODIFIED:20220622T212347Z
UID:8349-1660492800-1660496400@aabatonrouge.org
SUMMARY:ICYPAA
DESCRIPTION:International Conference of Young People in AA
URL:https://aabatonrouge.org/event/icypaa-33/
LOCATION:Central Office\, 10319 Old Hammond Hwy.\, Suite C-2 \, Baton Rouge\, LA\, 70816\, United States
CATEGORIES:Service,Sober Fun
END:VEVENT
BEGIN:VEVENT
DTSTART;TZID=America/Chicago:20220814T170000
DTEND;TZID=America/Chicago:20220814T180000
DTSTAMP:20260421T225000
CREATED:20220622T214308Z
LAST-MODIFIED:20220622T214308Z
UID:8376-1660496400-1660500000@aabatonrouge.org
SUMMARY:Redstick Roundup Committee
DESCRIPTION:
URL:https://aabatonrouge.org/event/redstick-roundup-committee-38/
LOCATION:Central Office\, 10319 Old Hammond Hwy.\, Suite C-2 \, Baton Rouge\, LA\, 70816\, United States
CATEGORIES:Service,Sober Fun
END:VEVENT
BEGIN:VEVENT
DTSTART;TZID=America/Chicago:20220818T183000
DTEND;TZID=America/Chicago:20220818T193000
DTSTAMP:20260421T225000
CREATED:20220621T213824Z
LAST-MODIFIED:20220621T213824Z
UID:8309-1660847400-1660851000@aabatonrouge.org
SUMMARY:COR
DESCRIPTION:Central Office Representatives
URL:https://aabatonrouge.org/event/cor-59/
LOCATION:ZOOM
CATEGORIES:Service,Sober Fun
END:VEVENT
BEGIN:VEVENT
DTSTART;TZID=America/Chicago:20220820T120000
DTEND;TZID=America/Chicago:20220820T130000
DTSTAMP:20260421T225000
CREATED:20220621T215026Z
LAST-MODIFIED:20220621T215026Z
UID:8325-1660996800-1661000400@aabatonrouge.org
SUMMARY:District 15 C
DESCRIPTION:
URL:https://aabatonrouge.org/event/district-15-c-46/
LOCATION:Club 12\, 1695 Beaumont Drive	\, Baton Rouge\, LA\, 70806\, United States
CATEGORIES:Service,Sober Fun
END:VEVENT
BEGIN:VEVENT
DTSTART;TZID=America/Chicago:20220821T150000
DTEND;TZID=America/Chicago:20220821T160000
DTSTAMP:20260421T225000
CREATED:20220622T211215Z
LAST-MODIFIED:20220622T211215Z
UID:8343-1661094000-1661097600@aabatonrouge.org
SUMMARY:The Grapevine Committee
DESCRIPTION:
URL:https://aabatonrouge.org/event/the-grapevine-committee-30/
LOCATION:Central Office\, 10319 Old Hammond Hwy.\, Suite C-2 \, Baton Rouge\, LA\, 70816\, United States
CATEGORIES:Service,Sober Fun
END:VEVENT
BEGIN:VEVENT
DTSTART;TZID=America/Chicago:20220821T173000
DTEND;TZID=America/Chicago:20220821T183000
DTSTAMP:20260421T225000
CREATED:20220621T215331Z
LAST-MODIFIED:20220621T215331Z
UID:8331-1661103000-1661106600@aabatonrouge.org
SUMMARY:District 15 D (Combined with A&B)
DESCRIPTION:
URL:https://aabatonrouge.org/event/district-15-d-combined-with-ab-15/
LOCATION:Central Office\, 10319 Old Hammond Hwy.\, Suite C-2 \, Baton Rouge\, LA\, 70816\, United States
CATEGORIES:Service,Sober Fun
END:VEVENT
BEGIN:VEVENT
DTSTART;TZID=America/Chicago:20220825T183000
DTEND;TZID=America/Chicago:20220825T193000
DTSTAMP:20260421T225000
CREATED:20220622T213934Z
LAST-MODIFIED:20220622T213934Z
UID:8370-1661452200-1661455800@aabatonrouge.org
SUMMARY:PI/CPC
DESCRIPTION:Public information/Cooperation with the Professional Community
URL:https://aabatonrouge.org/event/pi-cpc-40/
LOCATION:Club 12\, 1695 Beaumont Drive	\, Baton Rouge\, LA\, 70806\, United States
CATEGORIES:Service,Sober Fun
END:VEVENT
END:VCALENDAR