BEGIN:VCALENDAR
VERSION:2.0
PRODID:-//AA Central Office - ECPv6.15.13//NONSGML v1.0//EN
CALSCALE:GREGORIAN
METHOD:PUBLISH
X-WR-CALNAME:AA Central Office
X-ORIGINAL-URL:https://aabatonrouge.org
X-WR-CALDESC:Events for AA Central Office
REFRESH-INTERVAL;VALUE=DURATION:PT1H
X-Robots-Tag:noindex
X-PUBLISHED-TTL:PT1H
BEGIN:VTIMEZONE
TZID:America/Chicago
BEGIN:DAYLIGHT
TZOFFSETFROM:-0600
TZOFFSETTO:-0500
TZNAME:CDT
DTSTART:20240310T080000
END:DAYLIGHT
BEGIN:STANDARD
TZOFFSETFROM:-0500
TZOFFSETTO:-0600
TZNAME:CST
DTSTART:20241103T070000
END:STANDARD
BEGIN:DAYLIGHT
TZOFFSETFROM:-0600
TZOFFSETTO:-0500
TZNAME:CDT
DTSTART:20250309T080000
END:DAYLIGHT
BEGIN:STANDARD
TZOFFSETFROM:-0500
TZOFFSETTO:-0600
TZNAME:CST
DTSTART:20251102T070000
END:STANDARD
BEGIN:DAYLIGHT
TZOFFSETFROM:-0600
TZOFFSETTO:-0500
TZNAME:CDT
DTSTART:20260308T080000
END:DAYLIGHT
BEGIN:STANDARD
TZOFFSETFROM:-0500
TZOFFSETTO:-0600
TZNAME:CST
DTSTART:20261101T070000
END:STANDARD
END:VTIMEZONE
BEGIN:VEVENT
DTSTART;TZID=America/Chicago:20250808T080000
DTEND;TZID=America/Chicago:20250810T170000
DTSTAMP:20260421T085115
CREATED:20250327T214715Z
LAST-MODIFIED:20250327T214715Z
UID:10246-1754640000-1754845200@aabatonrouge.org
SUMMARY:La State Convention
DESCRIPTION:
URL:https://aabatonrouge.org/event/la-state-convention/
LOCATION:LA
ATTACH;FMTTYPE=image/jpeg:https://aabatonrouge.org/wp-content/uploads/2025/03/AA-LAstste-Conv-2025.jpeg
END:VEVENT
BEGIN:VEVENT
DTSTART;TZID=America/Chicago:20250810T080000
DTEND;TZID=America/Chicago:20250810T120000
DTSTAMP:20260421T085115
CREATED:20250528T193354Z
LAST-MODIFIED:20250528T193354Z
UID:10363-1754812800-1754827200@aabatonrouge.org
SUMMARY:Louisiana State Convention
DESCRIPTION:
URL:https://aabatonrouge.org/event/louisiana-state-convention-5/
LOCATION:Baton Rouge Marriott\, 5500 Hilton Ave\, Baton Rouge\, LA\, 70808\, United States
END:VEVENT
BEGIN:VEVENT
DTSTART;TZID=America/Chicago:20250810T150000
DTEND;TZID=America/Chicago:20250810T160000
DTSTAMP:20260421T085115
CREATED:20250528T191833Z
LAST-MODIFIED:20250728T195227Z
UID:10340-1754838000-1754841600@aabatonrouge.org
SUMMARY:LASCYPAA
DESCRIPTION:Louisiana State Conference of Young People in AA
URL:https://aabatonrouge.org/event/lascypaa-73/
LOCATION:Central Office\, 10319 Old Hammond Hwy.\, Suite C-2 \, Baton Rouge\, LA\, 70816\, United States
END:VEVENT
BEGIN:VEVENT
DTSTART;TZID=America/Chicago:20250810T153000
DTEND;TZID=America/Chicago:20250810T163000
DTSTAMP:20260421T085115
CREATED:20250528T183825Z
LAST-MODIFIED:20250528T183825Z
UID:10328-1754839800-1754843400@aabatonrouge.org
SUMMARY:District 16
DESCRIPTION:
URL:https://aabatonrouge.org/event/district-16-92/
LOCATION:Stepping Stones\, 1027 N. Burnside\, Gonzales\, LA\, 70737\, United States
END:VEVENT
BEGIN:VEVENT
DTSTART;TZID=America/Chicago:20250810T170000
DTEND;TZID=America/Chicago:20250810T180000
DTSTAMP:20260421T085115
CREATED:20250528T192510Z
LAST-MODIFIED:20250528T192510Z
UID:10352-1754845200-1754848800@aabatonrouge.org
SUMMARY:Red Stick Roundup Committee
DESCRIPTION:
URL:https://aabatonrouge.org/event/red-stick-roundup-committee-24/
LOCATION:Central Office\, 10319 Old Hammond Hwy.\, Suite C-2 \, Baton Rouge\, LA\, 70816\, United States
END:VEVENT
END:VCALENDAR