BEGIN:VCALENDAR
VERSION:2.0
PRODID:-//AA Central Office - ECPv6.15.13//NONSGML v1.0//EN
CALSCALE:GREGORIAN
METHOD:PUBLISH
X-ORIGINAL-URL:https://aabatonrouge.org
X-WR-CALDESC:Events for AA Central Office
REFRESH-INTERVAL;VALUE=DURATION:PT1H
X-Robots-Tag:noindex
X-PUBLISHED-TTL:PT1H
BEGIN:VTIMEZONE
TZID:America/Chicago
BEGIN:DAYLIGHT
TZOFFSETFROM:-0600
TZOFFSETTO:-0500
TZNAME:CDT
DTSTART:20240310T080000
END:DAYLIGHT
BEGIN:STANDARD
TZOFFSETFROM:-0500
TZOFFSETTO:-0600
TZNAME:CST
DTSTART:20241103T070000
END:STANDARD
BEGIN:DAYLIGHT
TZOFFSETFROM:-0600
TZOFFSETTO:-0500
TZNAME:CDT
DTSTART:20250309T080000
END:DAYLIGHT
BEGIN:STANDARD
TZOFFSETFROM:-0500
TZOFFSETTO:-0600
TZNAME:CST
DTSTART:20251102T070000
END:STANDARD
BEGIN:DAYLIGHT
TZOFFSETFROM:-0600
TZOFFSETTO:-0500
TZNAME:CDT
DTSTART:20260308T080000
END:DAYLIGHT
BEGIN:STANDARD
TZOFFSETFROM:-0500
TZOFFSETTO:-0600
TZNAME:CST
DTSTART:20261101T070000
END:STANDARD
END:VTIMEZONE
BEGIN:VEVENT
DTSTART;TZID=America/Chicago:20250516T080000
DTEND;TZID=America/Chicago:20250516T170000
DTSTAMP:20260421T130849
CREATED:20250327T214532Z
LAST-MODIFIED:20250327T214532Z
UID:10244-1747382400-1747414800@aabatonrouge.org
SUMMARY:Golf Scramble
DESCRIPTION:
URL:https://aabatonrouge.org/event/golf-scramble-2/
LOCATION:LA
ATTACH;FMTTYPE=image/jpeg:https://aabatonrouge.org/wp-content/uploads/2025/03/GREATER-BATON-ROUGE-AA-CENTRAL-OFFICE.1.jpeg
END:VEVENT
BEGIN:VEVENT
DTSTART;TZID=America/Chicago:20250516T180000
DTEND;TZID=America/Chicago:20250516T190000
DTSTAMP:20260421T130849
CREATED:20250225T213648Z
LAST-MODIFIED:20250225T213648Z
UID:10102-1747418400-1747422000@aabatonrouge.org
SUMMARY:District 10
DESCRIPTION:
URL:https://aabatonrouge.org/event/district-10-91/
LOCATION:Zachary UMC\, 4205 Church St.\, Zachary\, LA\, United States
CATEGORIES:Service,Sober Fun
END:VEVENT
END:VCALENDAR