BEGIN:VCALENDAR
VERSION:2.0
PRODID:-//AA Central Office - ECPv6.15.13//NONSGML v1.0//EN
CALSCALE:GREGORIAN
METHOD:PUBLISH
X-ORIGINAL-URL:https://aabatonrouge.org
X-WR-CALDESC:Events for AA Central Office
REFRESH-INTERVAL;VALUE=DURATION:PT1H
X-Robots-Tag:noindex
X-PUBLISHED-TTL:PT1H
BEGIN:VTIMEZONE
TZID:America/Chicago
BEGIN:DAYLIGHT
TZOFFSETFROM:-0600
TZOFFSETTO:-0500
TZNAME:CDT
DTSTART:20240310T080000
END:DAYLIGHT
BEGIN:STANDARD
TZOFFSETFROM:-0500
TZOFFSETTO:-0600
TZNAME:CST
DTSTART:20241103T070000
END:STANDARD
BEGIN:DAYLIGHT
TZOFFSETFROM:-0600
TZOFFSETTO:-0500
TZNAME:CDT
DTSTART:20250309T080000
END:DAYLIGHT
BEGIN:STANDARD
TZOFFSETFROM:-0500
TZOFFSETTO:-0600
TZNAME:CST
DTSTART:20251102T070000
END:STANDARD
BEGIN:DAYLIGHT
TZOFFSETFROM:-0600
TZOFFSETTO:-0500
TZNAME:CDT
DTSTART:20260308T080000
END:DAYLIGHT
BEGIN:STANDARD
TZOFFSETFROM:-0500
TZOFFSETTO:-0600
TZNAME:CST
DTSTART:20261101T070000
END:STANDARD
END:VTIMEZONE
BEGIN:VEVENT
DTSTART;TZID=America/Chicago:20250111T110000
DTEND;TZID=America/Chicago:20250111T150000
DTSTAMP:20260421T193703
CREATED:20241125T195714Z
LAST-MODIFIED:20241125T195714Z
UID:9936-1736593200-1736607600@aabatonrouge.org
SUMMARY:Baton Roots
DESCRIPTION:The 80th Anniversary of AA in Baton Rouge
URL:https://aabatonrouge.org/event/baton-roots/
LOCATION:Life Center\, 10473 Old Hammond Hwy\, Baton Rouge\, LA\, 70816\, United States
END:VEVENT
BEGIN:VEVENT
DTSTART;TZID=America/Chicago:20250111T120000
DTEND;TZID=America/Chicago:20250111T130000
DTSTAMP:20260421T193703
CREATED:20241007T151729Z
LAST-MODIFIED:20241007T151729Z
UID:9815-1736596800-1736600400@aabatonrouge.org
SUMMARY:District 15C
DESCRIPTION:
URL:https://aabatonrouge.org/event/district-15c-24/
LOCATION:Club 12\, 1695 Beaumont Drive	\, Baton Rouge\, LA\, 70806\, United States
CATEGORIES:General,Service,Sober Fun
END:VEVENT
BEGIN:VEVENT
DTSTART;TZID=America/Chicago:20250111T183000
DTEND;TZID=America/Chicago:20250111T193000
DTSTAMP:20260421T193703
CREATED:20241007T151131Z
LAST-MODIFIED:20241007T151131Z
UID:9807-1736620200-1736623800@aabatonrouge.org
SUMMARY:District 10
DESCRIPTION:
URL:https://aabatonrouge.org/event/district-10-87/
LOCATION:Zachary UMC\, 4205 Church St.\, Zachary\, LA\, United States
CATEGORIES:General,Service,Sober Fun
END:VEVENT
END:VCALENDAR