BEGIN:VCALENDAR
VERSION:2.0
PRODID:-//AA Central Office - ECPv6.15.13//NONSGML v1.0//EN
CALSCALE:GREGORIAN
METHOD:PUBLISH
X-ORIGINAL-URL:https://aabatonrouge.org
X-WR-CALDESC:Events for AA Central Office
REFRESH-INTERVAL;VALUE=DURATION:PT1H
X-Robots-Tag:noindex
X-PUBLISHED-TTL:PT1H
BEGIN:VTIMEZONE
TZID:America/Chicago
BEGIN:DAYLIGHT
TZOFFSETFROM:-0600
TZOFFSETTO:-0500
TZNAME:CDT
DTSTART:20230312T080000
END:DAYLIGHT
BEGIN:STANDARD
TZOFFSETFROM:-0500
TZOFFSETTO:-0600
TZNAME:CST
DTSTART:20231105T070000
END:STANDARD
BEGIN:DAYLIGHT
TZOFFSETFROM:-0600
TZOFFSETTO:-0500
TZNAME:CDT
DTSTART:20240310T080000
END:DAYLIGHT
BEGIN:STANDARD
TZOFFSETFROM:-0500
TZOFFSETTO:-0600
TZNAME:CST
DTSTART:20241103T070000
END:STANDARD
BEGIN:DAYLIGHT
TZOFFSETFROM:-0600
TZOFFSETTO:-0500
TZNAME:CDT
DTSTART:20250309T080000
END:DAYLIGHT
BEGIN:STANDARD
TZOFFSETFROM:-0500
TZOFFSETTO:-0600
TZNAME:CST
DTSTART:20251102T070000
END:STANDARD
END:VTIMEZONE
BEGIN:VEVENT
DTSTART;TZID=America/Chicago:20241102T090000
DTEND;TZID=America/Chicago:20241102T140000
DTSTAMP:20260421T225003
CREATED:20241010T120828Z
LAST-MODIFIED:20241010T120828Z
UID:9878-1730538000-1730556000@aabatonrouge.org
SUMMARY:DISTRICT 15c WORKSHOP
DESCRIPTION:DISTRICT 15c WORKSHOP\nFOOD & FELLOWSHIP \nSPEAKER PANELS Topics: \n\nWhat it was like\, what happened\, & what it’s like now within AA\nService Work: Explained\n\nNOVEMBER 2\, 2024\n10:00AM-2:00PM\n@ Club 12\n1695 BEAUMONT DR\nBATON ROUGE\, LA
URL:https://aabatonrouge.org/event/district-15c-workshop/
LOCATION:Club 12\, 1695 Beaumont Drive	\, Baton Rouge\, LA\, 70806\, United States
CATEGORIES:General,Service
END:VEVENT
END:VCALENDAR