BEGIN:VCALENDAR
VERSION:2.0
PRODID:-//AA Central Office - ECPv6.15.13//NONSGML v1.0//EN
CALSCALE:GREGORIAN
METHOD:PUBLISH
X-ORIGINAL-URL:https://aabatonrouge.org
X-WR-CALDESC:Events for AA Central Office
REFRESH-INTERVAL;VALUE=DURATION:PT1H
X-Robots-Tag:noindex
X-PUBLISHED-TTL:PT1H
BEGIN:VTIMEZONE
TZID:America/Chicago
BEGIN:DAYLIGHT
TZOFFSETFROM:-0600
TZOFFSETTO:-0500
TZNAME:CDT
DTSTART:20230312T080000
END:DAYLIGHT
BEGIN:STANDARD
TZOFFSETFROM:-0500
TZOFFSETTO:-0600
TZNAME:CST
DTSTART:20231105T070000
END:STANDARD
BEGIN:DAYLIGHT
TZOFFSETFROM:-0600
TZOFFSETTO:-0500
TZNAME:CDT
DTSTART:20240310T080000
END:DAYLIGHT
BEGIN:STANDARD
TZOFFSETFROM:-0500
TZOFFSETTO:-0600
TZNAME:CST
DTSTART:20241103T070000
END:STANDARD
BEGIN:DAYLIGHT
TZOFFSETFROM:-0600
TZOFFSETTO:-0500
TZNAME:CDT
DTSTART:20250309T080000
END:DAYLIGHT
BEGIN:STANDARD
TZOFFSETFROM:-0500
TZOFFSETTO:-0600
TZNAME:CST
DTSTART:20251102T070000
END:STANDARD
END:VTIMEZONE
BEGIN:VEVENT
DTSTART;TZID=America/Chicago:20240914T120000
DTEND;TZID=America/Chicago:20240914T130000
DTSTAMP:20260422T021712
CREATED:20240503T221903Z
LAST-MODIFIED:20240508T183808Z
UID:9490-1726315200-1726318800@aabatonrouge.org
SUMMARY:District 15 C
DESCRIPTION:
URL:https://aabatonrouge.org/event/district-15-3/
LOCATION:Club 12\, 1695 Beaumont Drive	\, Baton Rouge\, LA\, 70806\, United States
CATEGORIES:General,Service,Sober Fun
END:VEVENT
BEGIN:VEVENT
DTSTART;TZID=America/Chicago:20240914T183000
DTEND;TZID=America/Chicago:20240914T193000
DTSTAMP:20260422T021712
CREATED:20240503T220305Z
LAST-MODIFIED:20240503T220305Z
UID:9484-1726338600-1726342200@aabatonrouge.org
SUMMARY:District 10
DESCRIPTION:
URL:https://aabatonrouge.org/event/district-10-83/
LOCATION:Zachary UMC\, 4205 Church St.\, Zachary\, LA\, United States
CATEGORIES:General,Service,Sober Fun
END:VEVENT
END:VCALENDAR