BEGIN:VCALENDAR
VERSION:2.0
PRODID:-//AA Central Office - ECPv6.15.13//NONSGML v1.0//EN
CALSCALE:GREGORIAN
METHOD:PUBLISH
X-WR-CALNAME:AA Central Office
X-ORIGINAL-URL:https://aabatonrouge.org
X-WR-CALDESC:Events for AA Central Office
REFRESH-INTERVAL;VALUE=DURATION:PT1H
X-Robots-Tag:noindex
X-PUBLISHED-TTL:PT1H
BEGIN:VTIMEZONE
TZID:America/Chicago
BEGIN:DAYLIGHT
TZOFFSETFROM:-0600
TZOFFSETTO:-0500
TZNAME:CDT
DTSTART:20230312T080000
END:DAYLIGHT
BEGIN:STANDARD
TZOFFSETFROM:-0500
TZOFFSETTO:-0600
TZNAME:CST
DTSTART:20231105T070000
END:STANDARD
BEGIN:DAYLIGHT
TZOFFSETFROM:-0600
TZOFFSETTO:-0500
TZNAME:CDT
DTSTART:20240310T080000
END:DAYLIGHT
BEGIN:STANDARD
TZOFFSETFROM:-0500
TZOFFSETTO:-0600
TZNAME:CST
DTSTART:20241103T070000
END:STANDARD
BEGIN:DAYLIGHT
TZOFFSETFROM:-0600
TZOFFSETTO:-0500
TZNAME:CDT
DTSTART:20250309T080000
END:DAYLIGHT
BEGIN:STANDARD
TZOFFSETFROM:-0500
TZOFFSETTO:-0600
TZNAME:CST
DTSTART:20251102T070000
END:STANDARD
END:VTIMEZONE
BEGIN:VEVENT
DTSTART;TZID=America/Chicago:20240817T100000
DTEND;TZID=America/Chicago:20240817T130000
DTSTAMP:20260422T034757
CREATED:20240729T145435Z
LAST-MODIFIED:20240729T150002Z
UID:9707-1723888800-1723899600@aabatonrouge.org
SUMMARY:"How Well Are We Doing Behind The Walls?" seminar.
DESCRIPTION:A Free Event! \nHear from the Fellowship and Professionals about our efforts to carry the message into Treatment & Correctional Facilities. \n10AM – 1PM LUNCH WILL BE SERVED.\nLIFE Center 10473 Old Hammond\nHwy\, Baton Rouge\, LA 70816
URL:https://aabatonrouge.org/event/how-well-arewe-doing-behind-the-walls/
LOCATION:LA
ATTACH;FMTTYPE=image/jpeg:https://aabatonrouge.org/wp-content/uploads/2024/07/Walls2.jpeg
END:VEVENT
END:VCALENDAR