BEGIN:VCALENDAR
VERSION:2.0
PRODID:-//AA Central Office - ECPv6.15.13//NONSGML v1.0//EN
CALSCALE:GREGORIAN
METHOD:PUBLISH
X-ORIGINAL-URL:https://aabatonrouge.org
X-WR-CALDESC:Events for AA Central Office
REFRESH-INTERVAL;VALUE=DURATION:PT1H
X-Robots-Tag:noindex
X-PUBLISHED-TTL:PT1H
BEGIN:VTIMEZONE
TZID:America/Chicago
BEGIN:DAYLIGHT
TZOFFSETFROM:-0600
TZOFFSETTO:-0500
TZNAME:CDT
DTSTART:20230312T080000
END:DAYLIGHT
BEGIN:STANDARD
TZOFFSETFROM:-0500
TZOFFSETTO:-0600
TZNAME:CST
DTSTART:20231105T070000
END:STANDARD
BEGIN:DAYLIGHT
TZOFFSETFROM:-0600
TZOFFSETTO:-0500
TZNAME:CDT
DTSTART:20240310T080000
END:DAYLIGHT
BEGIN:STANDARD
TZOFFSETFROM:-0500
TZOFFSETTO:-0600
TZNAME:CST
DTSTART:20241103T070000
END:STANDARD
BEGIN:DAYLIGHT
TZOFFSETFROM:-0600
TZOFFSETTO:-0500
TZNAME:CDT
DTSTART:20250309T080000
END:DAYLIGHT
BEGIN:STANDARD
TZOFFSETFROM:-0500
TZOFFSETTO:-0600
TZNAME:CST
DTSTART:20251102T070000
END:STANDARD
END:VTIMEZONE
BEGIN:VEVENT
DTSTART;TZID=America/Chicago:20240519T130000
DTEND;TZID=America/Chicago:20240519T140000
DTSTAMP:20260422T082731
CREATED:20240514T211736Z
LAST-MODIFIED:20240514T211736Z
UID:9557-1716123600-1716127200@aabatonrouge.org
SUMMARY:Shooting for Sobriety Committee
DESCRIPTION:
URL:https://aabatonrouge.org/event/shooting-for-sobriety-committee-3/
LOCATION:Central Office\, 10319 Old Hammond Hwy.\, Suite C-2 \, Baton Rouge\, LA\, 70816\, United States
CATEGORIES:Service,Sober Fun
END:VEVENT
BEGIN:VEVENT
DTSTART;TZID=America/Chicago:20240519T163000
DTEND;TZID=America/Chicago:20240519T173000
DTSTAMP:20260422T082731
CREATED:20240223T165446Z
LAST-MODIFIED:20240223T165446Z
UID:9349-1716136200-1716139800@aabatonrouge.org
SUMMARY:The Grapevine Committee
DESCRIPTION:
URL:https://aabatonrouge.org/event/the-grapevine-committee-46/
LOCATION:Central Office\, 10319 Old Hammond Hwy.\, Suite C-2 \, Baton Rouge\, LA\, 70816\, United States
CATEGORIES:Service,Sober Fun
END:VEVENT
BEGIN:VEVENT
DTSTART;TZID=America/Chicago:20240519T173000
DTEND;TZID=America/Chicago:20240519T183000
DTSTAMP:20260422T082731
CREATED:20240223T163544Z
LAST-MODIFIED:20240223T163544Z
UID:9337-1716139800-1716143400@aabatonrouge.org
SUMMARY:District 15D
DESCRIPTION:
URL:https://aabatonrouge.org/event/district-15d-9/
LOCATION:Life Center\, 10473 Old Hammond Hwy\, Baton Rouge\, LA\, 70816\, United States
CATEGORIES:Service,Sober Fun
END:VEVENT
END:VCALENDAR