BEGIN:VCALENDAR
VERSION:2.0
PRODID:-//AA Central Office - ECPv6.15.13//NONSGML v1.0//EN
CALSCALE:GREGORIAN
METHOD:PUBLISH
X-WR-CALNAME:AA Central Office
X-ORIGINAL-URL:https://aabatonrouge.org
X-WR-CALDESC:Events for AA Central Office
REFRESH-INTERVAL;VALUE=DURATION:PT1H
X-Robots-Tag:noindex
X-PUBLISHED-TTL:PT1H
BEGIN:VTIMEZONE
TZID:America/Chicago
BEGIN:DAYLIGHT
TZOFFSETFROM:-0600
TZOFFSETTO:-0500
TZNAME:CDT
DTSTART:20220313T080000
END:DAYLIGHT
BEGIN:STANDARD
TZOFFSETFROM:-0500
TZOFFSETTO:-0600
TZNAME:CST
DTSTART:20221106T070000
END:STANDARD
BEGIN:DAYLIGHT
TZOFFSETFROM:-0600
TZOFFSETTO:-0500
TZNAME:CDT
DTSTART:20230312T080000
END:DAYLIGHT
BEGIN:STANDARD
TZOFFSETFROM:-0500
TZOFFSETTO:-0600
TZNAME:CST
DTSTART:20231105T070000
END:STANDARD
BEGIN:DAYLIGHT
TZOFFSETFROM:-0600
TZOFFSETTO:-0500
TZNAME:CDT
DTSTART:20240310T080000
END:DAYLIGHT
BEGIN:STANDARD
TZOFFSETFROM:-0500
TZOFFSETTO:-0600
TZNAME:CST
DTSTART:20241103T070000
END:STANDARD
END:VTIMEZONE
BEGIN:VEVENT
DTSTART;TZID=America/Chicago:20231224T150000
DTEND;TZID=America/Chicago:20231224T160000
DTSTAMP:20260422T154613
CREATED:20230913T211110Z
LAST-MODIFIED:20230913T211110Z
UID:9122-1703430000-1703433600@aabatonrouge.org
SUMMARY:State Convention Committee- Area 27
DESCRIPTION:
URL:https://aabatonrouge.org/event/state-convention-committee-area-27-9/
LOCATION:Central Office\, 10319 Old Hammond Hwy.\, Suite C-2 \, Baton Rouge\, LA\, 70816\, United States
CATEGORIES:Service,Sober Fun
END:VEVENT
BEGIN:VEVENT
DTSTART;TZID=America/Chicago:20231224T180000
DTEND;TZID=America/Chicago:20231225T160000
DTSTAMP:20260422T154613
CREATED:20231213T232104Z
LAST-MODIFIED:20231213T232104Z
UID:9221-1703440800-1703520000@aabatonrouge.org
SUMMARY:Christmas Alcathon
DESCRIPTION:
URL:https://aabatonrouge.org/event/christmas-alcathon-5/
LOCATION:Club 12\, 1695 Beaumont Drive	\, Baton Rouge\, LA\, 70806\, United States
CATEGORIES:Recovery Mtg,Service,Sober Fun
END:VEVENT
END:VCALENDAR